BEGIN:VCALENDAR
VERSION:2.0
PRODID:-//wp-events-plugin.com//7.0.5//EN
BEGIN:VEVENT
UID:29@prolocotradate.it
DTSTART;VALUE=DATE:20260412
DTEND;VALUE=DATE:20260413
DTSTAMP:20260403T080441Z
URL:https://www.prolocotradate.it/events/lions-day/
SUMMARY:Lions Day
DESCRIPTION:
END:VEVENT
END:VCALENDAR